BEGIN:VCALENDAR
VERSION:2.0
PRODID:icalendar-ruby
CALSCALE:GREGORIAN
BEGIN:VEVENT
DTSTAMP:20260425T224349Z
UID:e6b895f0-482a-4f28-a91a-9f45caeebca8
DTSTART;VALUE=DATE:20211204
DESCRIPTION:Property ID# 522039\, Locatoin: 117 Motu Grande\, Pauanui \, Ti
 me: 3:30PM
SUMMARY:Auction for 
END:VEVENT
END:VCALENDAR
