BEGIN:VCALENDAR
VERSION:2.0
PRODID:icalendar-ruby
CALSCALE:GREGORIAN
BEGIN:VEVENT
DTSTAMP:20260425T224627Z
UID:b8f3fc6c-1a12-45e7-b062-5c136b58b83a
DTSTART;VALUE=DATE:20220206
DESCRIPTION:Property ID# 526017\, Time: 2:00PM
SUMMARY:Auction for 
END:VEVENT
END:VCALENDAR
