BEGIN:VCALENDAR
VERSION:2.0
PRODID:icalendar-ruby
CALSCALE:GREGORIAN
BEGIN:VEVENT
DTSTAMP:20260423T212608Z
UID:171f840c-c145-4b99-8455-dd833d855e2d
DTSTART;VALUE=DATE:20260502
DESCRIPTION:Property ID# 605787\, Locatoin: Unless sold prior\, Time: 11:00
 AM
SUMMARY:Auction for 397  Front Miranda Road 
END:VEVENT
END:VCALENDAR
